BEGIN:VCALENDAR
VERSION:2.0
PRODID:-//Contratero//ES
CALSCALE:GREGORIAN
METHOD:PUBLISH
BEGIN:VEVENT
UID:300/2021/00618@contratero.es
DTSTAMP:20260424T160258Z
DTSTART:20211122T235959
DTEND:20211123T005959
SUMMARY:Cierre: Servicios de alojamiento\, administración y soporte
DESCRIPTION:Servicios de alojamiento\, administración y soporte de los portales web WordPress del Ayuntamiento de Madrid.\\n\\nOrganismo: Organismo Autónomo Informática del Ayuntamiento de Madrid\\n\\nVer en Contratero: https://contratero.es/contracts/300/2021/00618
URL:https://contratero.es/contracts/300/2021/00618
STATUS:CONFIRMED
BEGIN:VALARM
TRIGGER:-P1D
ACTION:DISPLAY
DESCRIPTION:Recordatorio: Servicios de alojamiento\, admi
END:VALARM
END:VEVENT
END:VCALENDAR