BEGIN:VCALENDAR
VERSION:2.0
PRODID:-//Contratero//ES
CALSCALE:GREGORIAN
METHOD:PUBLISH
BEGIN:VEVENT
UID:300/2022/00303@contratero.es
DTSTAMP:20260422T210504Z
DTSTART:20230227T235959
DTEND:20230228T005959
SUMMARY:Cierre: Servicio de mantenimiento del sistema de interrela
DESCRIPTION:Servicio de mantenimiento del sistema de interrelación con el ciudadano (SIC) y de la licencia Mejora Tu Ciudad (MTC) compuesto por las plataformas de Avisos y Madrid Móvil del Ayuntamiento de Madrid.\\n\\nOrganismo: Organismo Autónomo Informática del Ayuntamiento de Madrid\\n\\nVer en Contratero: https://contratero.es/contracts/300/2022/00303
URL:https://contratero.es/contracts/300/2022/00303
STATUS:CONFIRMED
BEGIN:VALARM
TRIGGER:-P1D
ACTION:DISPLAY
DESCRIPTION:Recordatorio: Servicio de mantenimiento del 
END:VALARM
END:VEVENT
END:VCALENDAR