BEGIN:VCALENDAR
VERSION:2.0
PRODID:-//Contratero//ES
CALSCALE:GREGORIAN
METHOD:PUBLISH
BEGIN:VEVENT
UID:300/2023/00107@contratero.es
DTSTAMP:20260422T171746Z
DTSTART:20230518T235959
DTEND:20230519T005959
SUMMARY:Cierre: Mantenimiento de la red wifi del centro Madrid Inn
DESCRIPTION:Mantenimiento de la red wifi del centro Madrid Innovation Lab\\n\\nOrganismo: Área de Gobierno de Economía\, Innovación y Hacienda del Ayuntamiento de Madrid\\n\\nVer en Contratero: https://contratero.es/contracts/300/2023/00107
URL:https://contratero.es/contracts/300/2023/00107
STATUS:CONFIRMED
BEGIN:VALARM
TRIGGER:-P1D
ACTION:DISPLAY
DESCRIPTION:Recordatorio: Mantenimiento de la red wifi d
END:VALARM
END:VEVENT
END:VCALENDAR