BEGIN:VCALENDAR
VERSION:2.0
PRODID:-//Contratero//ES
CALSCALE:GREGORIAN
METHOD:PUBLISH
BEGIN:VEVENT
UID:300/2023/00534@contratero.es
DTSTAMP:20260422T081049Z
DTSTART:20240312T235959
DTEND:20240313T005959
SUMMARY:Cierre: Mantenimiento y soporte de licencias y servicio de
DESCRIPTION:Mantenimiento y soporte de licencias y servicio de cloud de la Plataforma de Analítica Tributaria de la Agencia Tributaria Madrid\\n\\nOrganismo: Organismo Autónomo Agencia Tributaria Madrid\\n\\nVer en Contratero: https://contratero.es/contracts/300/2023/00534
URL:https://contratero.es/contracts/300/2023/00534
STATUS:CONFIRMED
BEGIN:VALARM
TRIGGER:-P1D
ACTION:DISPLAY
DESCRIPTION:Recordatorio: Mantenimiento y soporte de lic
END:VALARM
END:VEVENT
END:VCALENDAR