BEGIN:VCALENDAR
VERSION:2.0
PRODID:-//Contratero//ES
CALSCALE:GREGORIAN
METHOD:PUBLISH
BEGIN:VEVENT
UID:300/2023/00675@contratero.es
DTSTAMP:20260420T223928Z
DTSTART:20240104T235959
DTEND:20240105T005959
SUMMARY:Cierre: Servicio de Soporte Avanzado de Oracle\, denominado
DESCRIPTION:Servicio de Soporte Avanzado de Oracle\, denominado Business Critical Assistance (ACS).\\n\\nOrganismo: Organismo Autónomo Informática del Ayuntamiento de Madrid\\n\\nVer en Contratero: https://contratero.es/contracts/300/2023/00675
URL:https://contratero.es/contracts/300/2023/00675
STATUS:CONFIRMED
BEGIN:VALARM
TRIGGER:-P1D
ACTION:DISPLAY
DESCRIPTION:Recordatorio: Servicio de Soporte Avanzado d
END:VALARM
END:VEVENT
END:VCALENDAR