BEGIN:VCALENDAR
VERSION:2.0
PRODID:-//Contratero//ES
CALSCALE:GREGORIAN
METHOD:PUBLISH
BEGIN:VEVENT
UID:300/2024/00047@contratero.es
DTSTAMP:20260421T033531Z
DTSTART:20240916T235959
DTEND:20240917T005959
SUMMARY:Cierre: Servicio de alojamiento\, administración y mantenim
DESCRIPTION:Servicio de alojamiento\, administración y mantenimiento técnico de los portales Web  WORDPRESS del Ayuntamiento de Madrid.\\n\\nOrganismo: Organismo Autónomo Informática del Ayuntamiento de Madrid\\n\\nVer en Contratero: https://contratero.es/contracts/300/2024/00047
URL:https://contratero.es/contracts/300/2024/00047
STATUS:CONFIRMED
BEGIN:VALARM
TRIGGER:-P1D
ACTION:DISPLAY
DESCRIPTION:Recordatorio: Servicio de alojamiento\, admin
END:VALARM
END:VEVENT
END:VCALENDAR