BEGIN:VCALENDAR
VERSION:2.0
PRODID:-//Contratero//ES
CALSCALE:GREGORIAN
METHOD:PUBLISH
BEGIN:VEVENT
UID:300/2024/00131@contratero.es
DTSTAMP:20260422T094847Z
DTSTART:20240702T235959
DTEND:20240703T005959
SUMMARY:Cierre: Contrato mixto de servicios y suministros para el 
DESCRIPTION:Contrato mixto de servicios y suministros para el diseño\, implantación\, puesta en marcha y operación de la plataforma integral de servicios digitales de la Agencia para el Empleo de Madrid\\n\\nOrganismo: Organismo Autónomo Agencia para el Empleo de Madrid\\n\\nVer en Contratero: https://contratero.es/contracts/300/2024/00131
URL:https://contratero.es/contracts/300/2024/00131
STATUS:CONFIRMED
BEGIN:VALARM
TRIGGER:-P1D
ACTION:DISPLAY
DESCRIPTION:Recordatorio: Contrato mixto de servicios y 
END:VALARM
END:VEVENT
END:VCALENDAR