BEGIN:VCALENDAR
VERSION:2.0
PRODID:-//Contratero//ES
CALSCALE:GREGORIAN
METHOD:PUBLISH
BEGIN:VEVENT
UID:300/2025/02433@contratero.es
DTSTAMP:20260419T135525Z
DTSTART:20260119T235959
DTEND:20260120T005959
SUMMARY:Cierre: Apoyo a la gestión de redes sociales y la creación
DESCRIPTION:Apoyo a la gestión de redes sociales y la creación de piezas audiovisuales para los canales online dependientes de la Dirección General de Participación Ciudadana\\n\\nOrganismo: Área de Gobierno de Vicealcaldía\, Portavoz\, Seguridad y Emergencias del Ayuntamiento de Madrid\\n\\nVer en Contratero: https://contratero.es/contracts/300/2025/02433
URL:https://contratero.es/contracts/300/2025/02433
STATUS:CONFIRMED
BEGIN:VALARM
TRIGGER:-P1D
ACTION:DISPLAY
DESCRIPTION:Recordatorio: Apoyo a la gestión de redes so
END:VALARM
END:VEVENT
END:VCALENDAR