BEGIN:VCALENDAR
VERSION:2.0
PRODID:-//Contratero//ES
CALSCALE:GREGORIAN
METHOD:PUBLISH
BEGIN:VEVENT
UID:300/2025/02840@contratero.es
DTSTAMP:20260420T155537Z
DTSTART:20260123T235959
DTEND:20260124T005959
SUMMARY:Cierre: Contrato mixto de servicios de soporte y mantenimi
DESCRIPTION:Contrato mixto de servicios de soporte y mantenimiento\, y suministro de una aplicación informática para la gestión de las Escuelas Municipales de Música y Danza.\\n\\nOrganismo: Organismo Autónomo Informática del Ayuntamiento de Madrid\\n\\nVer en Contratero: https://contratero.es/contracts/300/2025/02840
URL:https://contratero.es/contracts/300/2025/02840
STATUS:CONFIRMED
BEGIN:VALARM
TRIGGER:-P1D
ACTION:DISPLAY
DESCRIPTION:Recordatorio: Contrato mixto de servicios de
END:VALARM
END:VEVENT
END:VCALENDAR