BEGIN:VCALENDAR
VERSION:2.0
PRODID:-//Contratero//ES
CALSCALE:GREGORIAN
METHOD:PUBLISH
BEGIN:VEVENT
UID:300322EAS001@contratero.es
DTSTAMP:20260422T200346Z
DTSTART:20220617T235959
DTEND:20220618T005959
SUMMARY:Cierre: Servicio correspondiente a la realización del estu
DESCRIPTION:Servicio correspondiente a la realización del estudio “Violencia económica contra las mujeres en sus relaciones de pareja o expareja”.\\n\\nOrganismo: Delegación del Gobierno Contra la Violencia de Género\\n\\nVer en Contratero: https://contratero.es/contracts/300322EAS001
URL:https://contratero.es/contracts/300322EAS001
STATUS:CONFIRMED
BEGIN:VALARM
TRIGGER:-P1D
ACTION:DISPLAY
DESCRIPTION:Recordatorio: Servicio correspondiente a la 
END:VALARM
END:VEVENT
END:VCALENDAR