BEGIN:VCALENDAR
VERSION:2.0
PRODID:-//Contratero//ES
CALSCALE:GREGORIAN
METHOD:PUBLISH
BEGIN:VEVENT
UID:301/21@contratero.es
DTSTAMP:20260424T135322Z
DTSTART:20211119T235959
DTEND:20211120T005959
SUMMARY:Cierre: Renovación de los servicios de soporte técnico a l
DESCRIPTION:Renovación de los servicios de soporte técnico a la solución Redbox Switch de la Empresa Metropolitana de Abastecimiento y Saneamiento de Sevilla\\n\\nOrganismo: Consejería Delegada de la Empresa Metropolitana de Abastecimiento y Saneamiento de Aguas de Sevilla S.A. (EMASESA)\\n\\nVer en Contratero: https://contratero.es/contracts/301/21
URL:https://contratero.es/contracts/301/21
STATUS:CONFIRMED
BEGIN:VALARM
TRIGGER:-P1D
ACTION:DISPLAY
DESCRIPTION:Recordatorio: Renovación de los servicios de
END:VALARM
END:VEVENT
END:VCALENDAR