BEGIN:VCALENDAR
VERSION:2.0
PRODID:-//Contratero//ES
CALSCALE:GREGORIAN
METHOD:PUBLISH
BEGIN:VEVENT
UID:303/2025@contratero.es
DTSTAMP:20260420T164851Z
DTSTART:20250218T235959
DTEND:20250219T005959
SUMMARY:Cierre: Servicio de comunicación inmediata. App Bandomovil
DESCRIPTION:Servicio de comunicación inmediata. App Bandomovil\\n\\nOrganismo: Alcaldía del Ayuntamiento de Villanueva de los Castillejos\\n\\nVer en Contratero: https://contratero.es/contracts/303/2025
URL:https://contratero.es/contracts/303/2025
STATUS:CONFIRMED
BEGIN:VALARM
TRIGGER:-P1D
ACTION:DISPLAY
DESCRIPTION:Recordatorio: Servicio de comunicación inmed
END:VALARM
END:VEVENT
END:VCALENDAR