BEGIN:VCALENDAR
VERSION:2.0
PRODID:-//Contratero//ES
CALSCALE:GREGORIAN
METHOD:PUBLISH
BEGIN:VEVENT
UID:303933@contratero.es
DTSTAMP:20260422T130312Z
DTSTART:20251128T235959
DTEND:20251129T005959
SUMMARY:Cierre: Suministro de actualizaciones de los productos ORA
DESCRIPTION:Suministro de actualizaciones de los productos ORACLE licenciados por el CIEMAT.\\n\\nOrganismo: Secretaría General del Centro de Investigaciones Energéticas\, Medioambientales y Tecnológicas (CIEMAT)\\n\\nVer en Contratero: https://contratero.es/contracts/303933
URL:https://contratero.es/contracts/303933
STATUS:CONFIRMED
BEGIN:VALARM
TRIGGER:-P1D
ACTION:DISPLAY
DESCRIPTION:Recordatorio: Suministro de actualizaciones 
END:VALARM
END:VEVENT
END:VCALENDAR