BEGIN:VCALENDAR
VERSION:2.0
PRODID:-//Contratero//ES
CALSCALE:GREGORIAN
METHOD:PUBLISH
BEGIN:VEVENT
UID:304206J@contratero.es
DTSTAMP:20260420T020530Z
DTSTART:20191226T235959
DTEND:20191227T005959
SUMMARY:Cierre: Contrato de servicio Internet Wimax\, depósito de v
DESCRIPTION:Contrato de servicio Internet Wimax\, depósito de vehículos de la Policía Local (Ref. Interna exp. 118/2019)\\n\\nOrganismo: Junta de Gobierno del Ayuntamiento de Albacete\\n\\nVer en Contratero: https://contratero.es/contracts/304206J
URL:https://contratero.es/contracts/304206J
STATUS:CONFIRMED
BEGIN:VALARM
TRIGGER:-P1D
ACTION:DISPLAY
DESCRIPTION:Recordatorio: Contrato de servicio Internet 
END:VALARM
END:VEVENT
END:VCALENDAR