BEGIN:VCALENDAR
VERSION:2.0
PRODID:-//Contratero//ES
CALSCALE:GREGORIAN
METHOD:PUBLISH
BEGIN:VEVENT
UID:305/2019@contratero.es
DTSTAMP:20260424T190532Z
DTSTART:20191126T235959
DTEND:20191127T005959
SUMMARY:Cierre: Creación y producción de material de promoción com
DESCRIPTION:Creación y producción de material de promoción comercial (elementos gráficos y digitales) para el Departamento de Industrias Culturales en diferentes formatos y soportes: “offline” y “online”.\\n\\nOrganismo: Consejo de Administración de ICEX España Exportación e Inversiones\, E.P.E.\, M.P.\\n\\nVer en Contratero: https://contratero.es/contracts/305/2019
URL:https://contratero.es/contracts/305/2019
STATUS:CONFIRMED
BEGIN:VALARM
TRIGGER:-P1D
ACTION:DISPLAY
DESCRIPTION:Recordatorio: Creación y producción de mater
END:VALARM
END:VEVENT
END:VCALENDAR