BEGIN:VCALENDAR
VERSION:2.0
PRODID:-//Contratero//ES
CALSCALE:GREGORIAN
METHOD:PUBLISH
BEGIN:VEVENT
UID:305323@contratero.es
DTSTAMP:20260420T011531Z
DTSTART:20251209T235959
DTEND:20251210T005959
SUMMARY:Cierre: Suministro de licencias Labview
DESCRIPTION:Suministro de licencias Labview\\n\\nOrganismo: Secretaría General del Centro de Investigaciones Energéticas\, Medioambientales y Tecnológicas (CIEMAT)\\n\\nVer en Contratero: https://contratero.es/contracts/305323
URL:https://contratero.es/contracts/305323
STATUS:CONFIRMED
BEGIN:VALARM
TRIGGER:-P1D
ACTION:DISPLAY
DESCRIPTION:Recordatorio: Suministro de licencias Labvie
END:VALARM
END:VEVENT
END:VCALENDAR