BEGIN:VCALENDAR
VERSION:2.0
PRODID:-//Contratero//ES
CALSCALE:GREGORIAN
METHOD:PUBLISH
BEGIN:VEVENT
UID:3054/2025@contratero.es
DTSTAMP:20260422T071254Z
DTSTART:20251117T235959
DTEND:20251118T005959
SUMMARY:Cierre: Contrato administrativo mixto de servicio de mante
DESCRIPTION:Contrato administrativo mixto de servicio de mantenimiento informático y adquisición de licencias del Ayuntamiento de Griñón (Madrid)\\n\\nOrganismo: Junta de Gobierno Local del Ayuntamiento de Griñón\\n\\nVer en Contratero: https://contratero.es/contracts/3054/2025
URL:https://contratero.es/contracts/3054/2025
STATUS:CONFIRMED
BEGIN:VALARM
TRIGGER:-P1D
ACTION:DISPLAY
DESCRIPTION:Recordatorio: Contrato administrativo mixto 
END:VALARM
END:VEVENT
END:VCALENDAR