BEGIN:VCALENDAR
VERSION:2.0
PRODID:-//Contratero//ES
CALSCALE:GREGORIAN
METHOD:PUBLISH
BEGIN:VEVENT
UID:3079/2024@contratero.es
DTSTAMP:20260423T085716Z
DTSTART:20241114T235959
DTEND:20241115T005959
SUMMARY:Cierre: Subministrament Llicencia Aplicació Gestió Horari 
DESCRIPTION:Subministrament Llicencia Aplicació Gestió Horari WCronos\\n\\nOrganismo: Concejalía de Contratación del Ayuntamiento de Ondara\\n\\nVer en Contratero: https://contratero.es/contracts/3079/2024
URL:https://contratero.es/contracts/3079/2024
STATUS:CONFIRMED
BEGIN:VALARM
TRIGGER:-P1D
ACTION:DISPLAY
DESCRIPTION:Recordatorio: Subministrament Llicencia Apli
END:VALARM
END:VEVENT
END:VCALENDAR