BEGIN:VCALENDAR
VERSION:2.0
PRODID:-//Contratero//ES
CALSCALE:GREGORIAN
METHOD:PUBLISH
BEGIN:VEVENT
UID:31/2021.0-SIS@contratero.es
DTSTAMP:20260424T190823Z
DTSTART:20211019T235959
DTEND:20211020T005959
SUMMARY:Cierre: Licencia y mantenimiento de software para obra civ
DESCRIPTION:Licencia y mantenimiento de software para obra civil ‘CYPE\\n\\nOrganismo: Autoridad Portuaria de Cartagena\\n\\nVer en Contratero: https://contratero.es/contracts/31/2021.0-SIS
URL:https://contratero.es/contracts/31/2021.0-SIS
STATUS:CONFIRMED
BEGIN:VALARM
TRIGGER:-P1D
ACTION:DISPLAY
DESCRIPTION:Recordatorio: Licencia y mantenimiento de so
END:VALARM
END:VEVENT
END:VCALENDAR