BEGIN:VCALENDAR
VERSION:2.0
PRODID:-//Contratero//ES
CALSCALE:GREGORIAN
METHOD:PUBLISH
BEGIN:VEVENT
UID:3116/2022@contratero.es
DTSTAMP:20260419T145115Z
DTSTART:20220627T235959
DTEND:20220628T005959
SUMMARY:Cierre: Servicio de asistencia técnica para la actualizaci
DESCRIPTION:Servicio de asistencia técnica para la actualización y mantenimiento de los datos que integran la plataforma SIG del Servicio de Infraestructuras de la Diputación de Castellón\\n\\nOrganismo: Junta de Gobierno de la Diputación Provincial de Castellón\\n\\nVer en Contratero: https://contratero.es/contracts/3116/2022
URL:https://contratero.es/contracts/3116/2022
STATUS:CONFIRMED
BEGIN:VALARM
TRIGGER:-P1D
ACTION:DISPLAY
DESCRIPTION:Recordatorio: Servicio de asistencia técnica
END:VALARM
END:VEVENT
END:VCALENDAR