BEGIN:VCALENDAR
VERSION:2.0
PRODID:-//Contratero//ES
CALSCALE:GREGORIAN
METHOD:PUBLISH
BEGIN:VEVENT
UID:3135/2025@contratero.es
DTSTAMP:20260420T090415Z
DTSTART:20250623T235959
DTEND:20250624T005959
SUMMARY:Cierre: Serveis especialitzats per a la digitalització de 
DESCRIPTION:Serveis especialitzats per a la digitalització de la informació del projecte de Rutes Modernistes de Söller\, aixi com l'elaboració de material escrit i imprès i la compra d'elements necessaris per a l...\\n\\nOrganismo: Junta de Gobierno Local de l'Ajuntament de Sóller\\n\\nVer en Contratero: https://contratero.es/contracts/3135/2025
URL:https://contratero.es/contracts/3135/2025
STATUS:CONFIRMED
BEGIN:VALARM
TRIGGER:-P1D
ACTION:DISPLAY
DESCRIPTION:Recordatorio: Serveis especialitzats per a l
END:VALARM
END:VEVENT
END:VCALENDAR