BEGIN:VCALENDAR
VERSION:2.0
PRODID:-//Contratero//ES
CALSCALE:GREGORIAN
METHOD:PUBLISH
BEGIN:VEVENT
UID:319/2020@contratero.es
DTSTAMP:20260423T000615Z
DTSTART:20201201T235959
DTEND:20201202T005959
SUMMARY:Cierre: Contratación del servicio integral de asistencia t
DESCRIPTION:Contratación del servicio integral de asistencia técnica informática para el soporte in situ a los usuarios y sus puestos de trabajo localizados en los distintos centros del Instituto de Mayores y Ser...\\n\\nOrganismo: Subdirección General de Análisis Presupuestario y Gestión Financiera del Instituto de Mayores y Servicios Sociales\\n\\nVer en Contratero: https://contratero.es/contracts/319/2020
URL:https://contratero.es/contracts/319/2020
STATUS:CONFIRMED
BEGIN:VALARM
TRIGGER:-P1D
ACTION:DISPLAY
DESCRIPTION:Recordatorio: Contratación del servicio inte
END:VALARM
END:VEVENT
END:VCALENDAR