BEGIN:VCALENDAR
VERSION:2.0
PRODID:-//Contratero//ES
CALSCALE:GREGORIAN
METHOD:PUBLISH
BEGIN:VEVENT
UID:31942/2024@contratero.es
DTSTAMP:20260420T082316Z
DTSTART:20250117T235959
DTEND:20250118T005959
SUMMARY:Cierre: Servicio de mantenimiento de accesibilidad de las 
DESCRIPTION:Servicio de mantenimiento de accesibilidad de las Páginas WEBs del Ayuntamiento de Rivas Vaciamadrid.\\n\\nOrganismo: Junta de Gobierno del Ayuntamiento de Rivas Vaciamadrid\\n\\nVer en Contratero: https://contratero.es/contracts/31942/2024
URL:https://contratero.es/contracts/31942/2024
STATUS:CONFIRMED
BEGIN:VALARM
TRIGGER:-P1D
ACTION:DISPLAY
DESCRIPTION:Recordatorio: Servicio de mantenimiento de a
END:VALARM
END:VEVENT
END:VCALENDAR