BEGIN:VCALENDAR
VERSION:2.0
PRODID:-//Contratero//ES
CALSCALE:GREGORIAN
METHOD:PUBLISH
BEGIN:VEVENT
UID:324/2024@contratero.es
DTSTAMP:20260423T214513Z
DTSTART:20240605T235959
DTEND:20240606T005959
SUMMARY:Cierre: Suministro de licencia de software y servicio de s
DESCRIPTION:Suministro de licencia de software y servicio de soporte de mantenimiento técnico del mismo.\\n\\nOrganismo: Consejería Delegada de Gestión y Planeamiento Territorial y Medioambiental\, S.A.\\n\\nVer en Contratero: https://contratero.es/contracts/324/2024
URL:https://contratero.es/contracts/324/2024
STATUS:CONFIRMED
BEGIN:VALARM
TRIGGER:-P1D
ACTION:DISPLAY
DESCRIPTION:Recordatorio: Suministro de licencia de soft
END:VALARM
END:VEVENT
END:VCALENDAR