BEGIN:VCALENDAR
VERSION:2.0
PRODID:-//Contratero//ES
CALSCALE:GREGORIAN
METHOD:PUBLISH
BEGIN:VEVENT
UID:3241@contratero.es
DTSTAMP:20260425T155007Z
DTSTART:20210301T235959
DTEND:20210302T005959
SUMMARY:Cierre: Contratación del servicio de acceso a Internet en 
DESCRIPTION:Contratación del servicio de acceso a Internet en edificios e instalaciones del Ayuntamiento de Béjar.\\n\\nOrganismo: Alcaldía del Ayuntamiento de Béjar\\n\\nVer en Contratero: https://contratero.es/contracts/3241
URL:https://contratero.es/contracts/3241
STATUS:CONFIRMED
BEGIN:VALARM
TRIGGER:-P1D
ACTION:DISPLAY
DESCRIPTION:Recordatorio: Contratación del servicio de a
END:VALARM
END:VEVENT
END:VCALENDAR