BEGIN:VCALENDAR
VERSION:2.0
PRODID:-//Contratero//ES
CALSCALE:GREGORIAN
METHOD:PUBLISH
BEGIN:VEVENT
UID:3283/2024@contratero.es
DTSTAMP:20260423T053940Z
DTSTART:20241203T235959
DTEND:20241204T005959
SUMMARY:Cierre: Subministrament Llicencia Aplicació de gestió labo
DESCRIPTION:Subministrament Llicencia Aplicació de gestió laboral i de nomines DSE-Laboral.\\n\\nOrganismo: Concejalía de Contratación del Ayuntamiento de Ondara\\n\\nVer en Contratero: https://contratero.es/contracts/3283/2024
URL:https://contratero.es/contracts/3283/2024
STATUS:CONFIRMED
BEGIN:VALARM
TRIGGER:-P1D
ACTION:DISPLAY
DESCRIPTION:Recordatorio: Subministrament Llicencia Apli
END:VALARM
END:VEVENT
END:VCALENDAR