BEGIN:VCALENDAR
VERSION:2.0
PRODID:-//Contratero//ES
CALSCALE:GREGORIAN
METHOD:PUBLISH
BEGIN:VEVENT
UID:3303/2023@contratero.es
DTSTAMP:20260422T130623Z
DTSTART:20231002T235959
DTEND:20231003T005959
SUMMARY:Cierre: El objeto de esta contratación consiste en la pres
DESCRIPTION:El objeto de esta contratación consiste en la prestación de servicios de soporte de seguridad informática\, constituyendo una oficina técnica de seguridad de la información y de servicios de seguridad ...\\n\\nOrganismo: Consorcio de Compensación de Seguros\\n\\nVer en Contratero: https://contratero.es/contracts/3303/2023
URL:https://contratero.es/contracts/3303/2023
STATUS:CONFIRMED
BEGIN:VALARM
TRIGGER:-P1D
ACTION:DISPLAY
DESCRIPTION:Recordatorio: El objeto de esta contratación
END:VALARM
END:VEVENT
END:VCALENDAR