BEGIN:VCALENDAR
VERSION:2.0
PRODID:-//Contratero//ES
CALSCALE:GREGORIAN
METHOD:PUBLISH
BEGIN:VEVENT
UID:332/2023@contratero.es
DTSTAMP:20260423T093319Z
DTSTART:20230925T235959
DTEND:20230926T005959
SUMMARY:Cierre: Servicios de mantenimiento e innovación de los sis
DESCRIPTION:Servicios de mantenimiento e innovación de los sistemas implicados en la gestión de la plataforma Smart Port Aviles (SPA)\\n\\nOrganismo: Autoridad Portuaria de Avilés\\n\\nVer en Contratero: https://contratero.es/contracts/332/2023
URL:https://contratero.es/contracts/332/2023
STATUS:CONFIRMED
BEGIN:VALARM
TRIGGER:-P1D
ACTION:DISPLAY
DESCRIPTION:Recordatorio: Servicios de mantenimiento e i
END:VALARM
END:VEVENT
END:VCALENDAR