BEGIN:VCALENDAR
VERSION:2.0
PRODID:-//Contratero//ES
CALSCALE:GREGORIAN
METHOD:PUBLISH
BEGIN:VEVENT
UID:34-05/22I@contratero.es
DTSTAMP:20260423T030257Z
DTSTART:20220629T235959
DTEND:20220630T005959
SUMMARY:Cierre: Evaluación externa de la calidad del proyecto FEST
DESCRIPTION:Evaluación externa de la calidad del proyecto FESTII - Formación y Educación Superior para la Transición Energética en Territorios Insulares y en el Océano Índico.\\n\\nOrganismo: Rectorado de la Universidad de La Laguna\\n\\nVer en Contratero: https://contratero.es/contracts/34-05/22I
URL:https://contratero.es/contracts/34-05/22I
STATUS:CONFIRMED
BEGIN:VALARM
TRIGGER:-P1D
ACTION:DISPLAY
DESCRIPTION:Recordatorio: Evaluación externa de la calid
END:VALARM
END:VEVENT
END:VCALENDAR