BEGIN:VCALENDAR
VERSION:2.0
PRODID:-//Contratero//ES
CALSCALE:GREGORIAN
METHOD:PUBLISH
BEGIN:VEVENT
UID:343/23@contratero.es
DTSTAMP:20260422T182339Z
DTSTART:20230728T235959
DTEND:20230729T005959
SUMMARY:Cierre: Aplicación de control\, gestión y elaboración de pr
DESCRIPTION:Aplicación de control\, gestión y elaboración de presupuestos\\n\\nOrganismo: Presidencia de la Diputación de Badajoz\\n\\nVer en Contratero: https://contratero.es/contracts/343/23
URL:https://contratero.es/contracts/343/23
STATUS:CONFIRMED
BEGIN:VALARM
TRIGGER:-P1D
ACTION:DISPLAY
DESCRIPTION:Recordatorio: Aplicación de control\, gestión
END:VALARM
END:VEVENT
END:VCALENDAR