BEGIN:VCALENDAR
VERSION:2.0
PRODID:-//Contratero//ES
CALSCALE:GREGORIAN
METHOD:PUBLISH
BEGIN:VEVENT
UID:34380/2025@contratero.es
DTSTAMP:20260420T021125Z
DTSTART:20251217T235959
DTEND:20251218T005959
SUMMARY:Cierre: Suministro de seis licencias de autocad LT 2022
DESCRIPTION:Suministro de seis licencias de autocad LT 2022\\n\\nOrganismo: Alcaldía del Ayuntamiento de Soria\\n\\nVer en Contratero: https://contratero.es/contracts/34380/2025
URL:https://contratero.es/contracts/34380/2025
STATUS:CONFIRMED
BEGIN:VALARM
TRIGGER:-P1D
ACTION:DISPLAY
DESCRIPTION:Recordatorio: Suministro de seis licencias d
END:VALARM
END:VEVENT
END:VCALENDAR