BEGIN:VCALENDAR
VERSION:2.0
PRODID:-//Contratero//ES
CALSCALE:GREGORIAN
METHOD:PUBLISH
BEGIN:VEVENT
UID:3504019007600@contratero.es
DTSTAMP:20260422T044804Z
DTSTART:20191114T235959
DTEND:20191115T005959
SUMMARY:Cierre: COM - Acuerdo Marco - Mantenimiento del sistema de
DESCRIPTION:COM - Acuerdo Marco - Mantenimiento del sistema de mensajería militar SACOMAR\\n\\nOrganismo: Dirección de Gestión Económica de la Jefatura de Apoyo Logístico de la Armada\\n\\nVer en Contratero: https://contratero.es/contracts/3504019007600
URL:https://contratero.es/contracts/3504019007600
STATUS:CONFIRMED
BEGIN:VALARM
TRIGGER:-P1D
ACTION:DISPLAY
DESCRIPTION:Recordatorio: COM - Acuerdo Marco - Mantenim
END:VALARM
END:VEVENT
END:VCALENDAR