BEGIN:VCALENDAR
VERSION:2.0
PRODID:-//Contratero//ES
CALSCALE:GREGORIAN
METHOD:PUBLISH
BEGIN:VEVENT
UID:3523/2021@contratero.es
DTSTAMP:20260425T030856Z
DTSTART:20210625T235959
DTEND:20210626T005959
SUMMARY:Cierre: Implantación de una aplicación web para la publica
DESCRIPTION:Implantación de una aplicación web para la publicación\, visualización y exploración de los datos de contratación de la entidad\\n\\nOrganismo: Presidencia de la Diputación Provincial de Castellón\\n\\nVer en Contratero: https://contratero.es/contracts/3523/2021
URL:https://contratero.es/contracts/3523/2021
STATUS:CONFIRMED
BEGIN:VALARM
TRIGGER:-P1D
ACTION:DISPLAY
DESCRIPTION:Recordatorio: Implantación de una aplicación
END:VALARM
END:VEVENT
END:VCALENDAR