BEGIN:VCALENDAR
VERSION:2.0
PRODID:-//Contratero//ES
CALSCALE:GREGORIAN
METHOD:PUBLISH
BEGIN:VEVENT
UID:358/2018@contratero.es
DTSTAMP:20260421T235527Z
DTSTART:20201218T235959
DTEND:20201219T005959
SUMMARY:Cierre: Instalación\, puesta en marcha y mantenimiento de u
DESCRIPTION:Instalación\, puesta en marcha y mantenimiento de una red wifi para la prestación de acceso gratuito a internet en espacios públicos exteriores de Huétor Santillán en el marco del Mecanismo "conectar e...\\n\\nOrganismo: Alcaldía del Ayuntamiento Huétor Santillán\\n\\nVer en Contratero: https://contratero.es/contracts/358/2018
URL:https://contratero.es/contracts/358/2018
STATUS:CONFIRMED
BEGIN:VALARM
TRIGGER:-P1D
ACTION:DISPLAY
DESCRIPTION:Recordatorio: Instalación\, puesta en marcha 
END:VALARM
END:VEVENT
END:VCALENDAR