BEGIN:VCALENDAR
VERSION:2.0
PRODID:-//Contratero//ES
CALSCALE:GREGORIAN
METHOD:PUBLISH
BEGIN:VEVENT
UID:358392R@contratero.es
DTSTAMP:20260421T140601Z
DTSTART:20200306T235959
DTEND:20200307T005959
SUMMARY:Cierre: Instalación\, puesta en funcionamiento y mantenimie
DESCRIPTION:Instalación\, puesta en funcionamiento y mantenimiento de la salida a internet de 5 sedes de dificil cobertura\\n\\nOrganismo: Alcaldía del Ayuntamiento de Requena\\n\\nVer en Contratero: https://contratero.es/contracts/358392R
URL:https://contratero.es/contracts/358392R
STATUS:CONFIRMED
BEGIN:VALARM
TRIGGER:-P1D
ACTION:DISPLAY
DESCRIPTION:Recordatorio: Instalación\, puesta en funcion
END:VALARM
END:VEVENT
END:VCALENDAR