BEGIN:VCALENDAR
VERSION:2.0
PRODID:-//Contratero//ES
CALSCALE:GREGORIAN
METHOD:PUBLISH
BEGIN:VEVENT
UID:36/24@contratero.es
DTSTAMP:20260423T152218Z
DTSTART:20240909T235959
DTEND:20240910T005959
SUMMARY:Cierre: Suscripción de la licencia de Jira Cloud edición e
DESCRIPTION:Suscripción de la licencia de Jira Cloud edición estándar durante dos años\, para la Universidad de las Illes Balears.\\n\\nOrganismo: Rectorado de la Universidad de les Illes Balears\\n\\nVer en Contratero: https://contratero.es/contracts/36/24
URL:https://contratero.es/contracts/36/24
STATUS:CONFIRMED
BEGIN:VALARM
TRIGGER:-P1D
ACTION:DISPLAY
DESCRIPTION:Recordatorio: Suscripción de la licencia de 
END:VALARM
END:VEVENT
END:VCALENDAR