BEGIN:VCALENDAR
VERSION:2.0
PRODID:-//Contratero//ES
CALSCALE:GREGORIAN
METHOD:PUBLISH
BEGIN:VEVENT
UID:3665/2022@contratero.es
DTSTAMP:20260423T121218Z
DTSTART:20230110T235959
DTEND:20230111T005959
SUMMARY:Cierre: Contratación mixta del servicio de control\, vigila
DESCRIPTION:Contratación mixta del servicio de control\, vigilancia y denuncia del estacionamiento limitado y controlado de vehículos de la vía pública (lote 1) y el servicio complementario de cobro mediante APP d...\\n\\nOrganismo: Junta de Gobierno del Ayuntamiento de Ciutadella de Menorca\\n\\nVer en Contratero: https://contratero.es/contracts/3665/2022
URL:https://contratero.es/contracts/3665/2022
STATUS:CONFIRMED
BEGIN:VALARM
TRIGGER:-P1D
ACTION:DISPLAY
DESCRIPTION:Recordatorio: Contratación mixta del servici
END:VALARM
END:VEVENT
END:VCALENDAR