BEGIN:VCALENDAR
VERSION:2.0
PRODID:-//Contratero//ES
CALSCALE:GREGORIAN
METHOD:PUBLISH
BEGIN:VEVENT
UID:37/pa/ser/24@contratero.es
DTSTAMP:20260422T044901Z
DTSTART:20240708T235959
DTEND:20240709T005959
SUMMARY:Cierre: Servicio de gestión de Ciberseguridad (SOC/CSIRT) 
DESCRIPTION:Servicio de gestión de Ciberseguridad (SOC/CSIRT) en SUMA. Gestión Tributaria. Diputación de Alicante.\\n\\nOrganismo: Dirección de Suma Gestión Tributaria. Diputación de Alicante\\n\\nVer en Contratero: https://contratero.es/contracts/37/pa/ser/24
URL:https://contratero.es/contracts/37/pa/ser/24
STATUS:CONFIRMED
BEGIN:VALARM
TRIGGER:-P1D
ACTION:DISPLAY
DESCRIPTION:Recordatorio: Servicio de gestión de Ciberse
END:VALARM
END:VEVENT
END:VCALENDAR