BEGIN:VCALENDAR
VERSION:2.0
PRODID:-//Contratero//ES
CALSCALE:GREGORIAN
METHOD:PUBLISH
BEGIN:VEVENT
UID:3741/2022@contratero.es
DTSTAMP:20260424T001418Z
DTSTART:20220628T235959
DTEND:20220629T005959
SUMMARY:Cierre: El objeto del presente Pliego lo constituye la Con
DESCRIPTION:El objeto del presente Pliego lo constituye la Contratación del  Servicio de mantenimiento del software de gestión de instalaciones deportivas municipales (SPORTTIA).\\n\\nOrganismo: Alcaldía del Ayuntamiento de Punta umbría\\n\\nVer en Contratero: https://contratero.es/contracts/3741/2022
URL:https://contratero.es/contracts/3741/2022
STATUS:CONFIRMED
BEGIN:VALARM
TRIGGER:-P1D
ACTION:DISPLAY
DESCRIPTION:Recordatorio: El objeto del presente Pliego 
END:VALARM
END:VEVENT
END:VCALENDAR