BEGIN:VCALENDAR
VERSION:2.0
PRODID:-//Contratero//ES
CALSCALE:GREGORIAN
METHOD:PUBLISH
BEGIN:VEVENT
UID:377/2024/CMA@contratero.es
DTSTAMP:20260420T213856Z
DTSTART:20241228T235959
DTEND:20241229T005959
SUMMARY:Cierre: Asistencia técnica y mantenimiento correctivo y ev
DESCRIPTION:Asistencia técnica y mantenimiento correctivo y evolutivo del sistema integrado de gestión bibliotecaria AbsysNet para la Biblioteca del Estado José Luis Fernández de la Torre\\n\\nOrganismo: Consejería de Hacienda de la Ciudad Autónoma de Melilla\\n\\nVer en Contratero: https://contratero.es/contracts/377/2024/CMA
URL:https://contratero.es/contracts/377/2024/CMA
STATUS:CONFIRMED
BEGIN:VALARM
TRIGGER:-P1D
ACTION:DISPLAY
DESCRIPTION:Recordatorio: Asistencia técnica y mantenimi
END:VALARM
END:VEVENT
END:VCALENDAR