BEGIN:VCALENDAR
VERSION:2.0
PRODID:-//Contratero//ES
CALSCALE:GREGORIAN
METHOD:PUBLISH
BEGIN:VEVENT
UID:381/24@contratero.es
DTSTAMP:20260424T203602Z
DTSTART:20240902T235959
DTEND:20240903T005959
SUMMARY:Cierre: Soporte técnico del Centro de Operación Seguridad 
DESCRIPTION:Soporte técnico del Centro de Operación Seguridad (SOC) de la Diputación de Badajoz\\n\\nOrganismo: Presidencia de la Diputación de Badajoz\\n\\nVer en Contratero: https://contratero.es/contracts/381/24
URL:https://contratero.es/contracts/381/24
STATUS:CONFIRMED
BEGIN:VALARM
TRIGGER:-P1D
ACTION:DISPLAY
DESCRIPTION:Recordatorio: Soporte técnico del Centro de 
END:VALARM
END:VEVENT
END:VCALENDAR