BEGIN:VCALENDAR
VERSION:2.0
PRODID:-//Contratero//ES
CALSCALE:GREGORIAN
METHOD:PUBLISH
BEGIN:VEVENT
UID:3838@contratero.es
DTSTAMP:20260421T104254Z
DTSTART:20210910T235959
DTEND:20210911T005959
SUMMARY:Cierre: Servicio Hosting de la web de Acosol\, S.A. www.aco
DESCRIPTION:Servicio Hosting de la web de Acosol\, S.A. www.acosol.es\\n\\nOrganismo: Consejería delegada de ACOSOL\, S.A.U.\\n\\nVer en Contratero: https://contratero.es/contracts/3838
URL:https://contratero.es/contracts/3838
STATUS:CONFIRMED
BEGIN:VALARM
TRIGGER:-P1D
ACTION:DISPLAY
DESCRIPTION:Recordatorio: Servicio Hosting de la web de 
END:VALARM
END:VEVENT
END:VCALENDAR