BEGIN:VCALENDAR
VERSION:2.0
PRODID:-//Contratero//ES
CALSCALE:GREGORIAN
METHOD:PUBLISH
BEGIN:VEVENT
UID:3868E/2025@contratero.es
DTSTAMP:20260423T063302Z
DTSTART:20250704T235959
DTEND:20250705T005959
SUMMARY:Cierre: Contrato mixto para la gestión de activos (ITAM) e
DESCRIPTION:Contrato mixto para la gestión de activos (ITAM) e incidencias (ITSM) para el Ayuntamiento de Gijón y Eemm\, procedimiento abierto\, sujeto a regulación armonizada\, con varios criterios de adjudicación\\n\\nOrganismo: Alcaldía del Ayuntamiento de Gijón\\n\\nVer en Contratero: https://contratero.es/contracts/3868E/2025
URL:https://contratero.es/contracts/3868E/2025
STATUS:CONFIRMED
BEGIN:VALARM
TRIGGER:-P1D
ACTION:DISPLAY
DESCRIPTION:Recordatorio: Contrato mixto para la gestión
END:VALARM
END:VEVENT
END:VCALENDAR