BEGIN:VCALENDAR
VERSION:2.0
PRODID:-//Contratero//ES
CALSCALE:GREGORIAN
METHOD:PUBLISH
BEGIN:VEVENT
UID:38P/24@contratero.es
DTSTAMP:20260421T022001Z
DTSTART:20241017T235959
DTEND:20241018T005959
SUMMARY:Cierre: Soporte y mantenimiento accesibilidad web de www.d
DESCRIPTION:Soporte y mantenimiento accesibilidad web de www.dipucuenca.es con la plataforma Insuit.\\n\\nOrganismo: Presidencia de la Diputación Provincial de Cuenca\\n\\nVer en Contratero: https://contratero.es/contracts/38P/24
URL:https://contratero.es/contracts/38P/24
STATUS:CONFIRMED
BEGIN:VALARM
TRIGGER:-P1D
ACTION:DISPLAY
DESCRIPTION:Recordatorio: Soporte y mantenimiento accesi
END:VALARM
END:VEVENT
END:VCALENDAR