BEGIN:VCALENDAR
VERSION:2.0
PRODID:-//Contratero//ES
CALSCALE:GREGORIAN
METHOD:PUBLISH
BEGIN:VEVENT
UID:39-13/24S@contratero.es
DTSTAMP:20260424T131117Z
DTSTART:20241205T235959
DTEND:20241206T005959
SUMMARY:Cierre: Provisión del servicio de mantenimiento (reactivo\,
DESCRIPTION:Provisión del servicio de mantenimiento (reactivo\, proactivo y evolutivo) y soporte de los sistemas (HW) y aplicaciones (SW) que sustentan los servicios generales de cita previa (incluida la gestión d...\\n\\nOrganismo: Rectorado de la Universidad de La Laguna\\n\\nVer en Contratero: https://contratero.es/contracts/39-13/24S
URL:https://contratero.es/contracts/39-13/24S
STATUS:CONFIRMED
BEGIN:VALARM
TRIGGER:-P1D
ACTION:DISPLAY
DESCRIPTION:Recordatorio: Provisión del servicio de mant
END:VALARM
END:VEVENT
END:VCALENDAR