BEGIN:VCALENDAR
VERSION:2.0
PRODID:-//Contratero//ES
CALSCALE:GREGORIAN
METHOD:PUBLISH
BEGIN:VEVENT
UID:39.1/2024@contratero.es
DTSTAMP:20260420T044834Z
DTSTART:20250723T235959
DTEND:20250724T005959
SUMMARY:Cierre: El objeto de este contrato consiste en la creación
DESCRIPTION:El objeto de este contrato consiste en la creación de un nuevo portal web de información y promoción del des/no Muro y Playa de Muro que sus/tuya a los webs\nactuales https://ajmuro.net/ca/el-nostre-m...\\n\\nOrganismo: Alcaldía del Ayuntamiento de Muro\\n\\nVer en Contratero: https://contratero.es/contracts/39.1/2024
URL:https://contratero.es/contracts/39.1/2024
STATUS:CONFIRMED
BEGIN:VALARM
TRIGGER:-P1D
ACTION:DISPLAY
DESCRIPTION:Recordatorio: El objeto de este contrato con
END:VALARM
END:VEVENT
END:VCALENDAR