BEGIN:VCALENDAR
VERSION:2.0
PRODID:-//Contratero//ES
CALSCALE:GREGORIAN
METHOD:PUBLISH
BEGIN:VEVENT
UID:39/2021@contratero.es
DTSTAMP:20260425T012327Z
DTSTART:20211029T235959
DTEND:20211030T005959
SUMMARY:Cierre: Servicios de tramitador para gestión de expediente
DESCRIPTION:Servicios de tramitador para gestión de expedientes electrónicos y de  administración electrónica en el Ayuntamiento de Torremolinos\, que podrá ser cofinanciado en un 80% por la Unión Europea con carg...\\n\\nOrganismo: Concejalía Delegada en Materia de Contratación del Ayuntamiento de Torremolinos\\n\\nVer en Contratero: https://contratero.es/contracts/39/2021
URL:https://contratero.es/contracts/39/2021
STATUS:CONFIRMED
BEGIN:VALARM
TRIGGER:-P1D
ACTION:DISPLAY
DESCRIPTION:Recordatorio: Servicios de tramitador para g
END:VALARM
END:VEVENT
END:VCALENDAR