BEGIN:VCALENDAR
VERSION:2.0
PRODID:-//Contratero//ES
CALSCALE:GREGORIAN
METHOD:PUBLISH
BEGIN:VEVENT
UID:391/2024@contratero.es
DTSTAMP:20260422T215221Z
DTSTART:20241119T235959
DTEND:20241120T005959
SUMMARY:Cierre: Subministrament – Llicència programa informàtic IN
DESCRIPTION:Subministrament – Llicència programa informàtic INTRAFIC per als Neg. Comerç\, Ocupació i l'OMIC\\n\\nOrganismo: Junta de Gobierno del Ayuntamiento de Carcaixent\\n\\nVer en Contratero: https://contratero.es/contracts/391/2024
URL:https://contratero.es/contracts/391/2024
STATUS:CONFIRMED
BEGIN:VALARM
TRIGGER:-P1D
ACTION:DISPLAY
DESCRIPTION:Recordatorio: Subministrament – Llicència pr
END:VALARM
END:VEVENT
END:VCALENDAR