BEGIN:VCALENDAR
VERSION:2.0
PRODID:-//Contratero//ES
CALSCALE:GREGORIAN
METHOD:PUBLISH
BEGIN:VEVENT
UID:3979/2024@contratero.es
DTSTAMP:20260420T164757Z
DTSTART:20240525T235959
DTEND:20240526T005959
SUMMARY:Cierre: El objeto del contrato es el servicio de Delegado 
DESCRIPTION:El objeto del contrato es el servicio de Delegado de Protección de Datos del Ayuntamiento de Candelaria y su sector público local (EPELCAN\, Empresa de\nInserción y Fundación Candesol).\\n\\nOrganismo: Alcaldía del Ayuntamiento de Candelaria\\n\\nVer en Contratero: https://contratero.es/contracts/3979/2024
URL:https://contratero.es/contracts/3979/2024
STATUS:CONFIRMED
BEGIN:VALARM
TRIGGER:-P1D
ACTION:DISPLAY
DESCRIPTION:Recordatorio: El objeto del contrato es el s
END:VALARM
END:VEVENT
END:VCALENDAR