BEGIN:VCALENDAR
VERSION:2.0
PRODID:-//Contratero//ES
CALSCALE:GREGORIAN
METHOD:PUBLISH
BEGIN:VEVENT
UID:4.20/41110.0201@contratero.es
DTSTAMP:20260424T140552Z
DTSTART:20210624T235959
DTEND:20210625T005959
SUMMARY:Cierre: Migración del sistema operativo WINDOWS 7 a WINDOW
DESCRIPTION:Migración del sistema operativo WINDOWS 7 a WINDOWS 10 en equipos de usuario de ADIF.\\n\\nOrganismo: ADIF - Presidencia\\n\\nVer en Contratero: https://contratero.es/contracts/4.20/41110.0201
URL:https://contratero.es/contracts/4.20/41110.0201
STATUS:CONFIRMED
BEGIN:VALARM
TRIGGER:-P1D
ACTION:DISPLAY
DESCRIPTION:Recordatorio: Migración del sistema operativ
END:VALARM
END:VEVENT
END:VCALENDAR